BEGIN:VCALENDAR
VERSION:2.0
PRODID:-//https://www.vertelacademie.nl///NONSGML kigkonsult.se iCalcreator 2.10.15//
METHOD:PUBLISH
BEGIN:VEVENT
UID:20260420T044629CEST-761340txsO@https://www.vertelacademie.nl/
DTSTAMP:20260420T024629Z
DESCRIPTION: https://www.vertelacademie.nl/kalender/evenement/821-de-pop-en
 -de-verteller-dag-2
DTSTART;VALUE=DATE:20261128
LOCATION:De Berenkuil - Utrecht (Biltstraat 166\, 3572 BP Utrecht\, Nederla
 nd)
SUMMARY:De pop en de verteller (Dag 2)
URL:https://www.vertelacademie.nl/kalender/evenement/821-de-pop-en-de-verte
 ller-dag-2
END:VEVENT
END:VCALENDAR
