BEGIN:VCALENDAR
VERSION:2.0
PRODID:-//https://www.vertelacademie.nl///NONSGML kigkonsult.se iCalcreator 2.10.15//
METHOD:PUBLISH
BEGIN:VEVENT
UID:20260420T041735CEST-9599VktmFV@https://www.vertelacademie.nl/
DTSTAMP:20260420T021735Z
DESCRIPTION:Voor een beschrijving van de lesinhoud van Vertellen voor jonge
 ren\, klik hier. https://www.vertelacademie.nl/kalender/evenement/819-vert
 ellen-voor-jongeren
DTSTART;VALUE=DATE:20261121
LOCATION:De Berenkuil - Utrecht (Biltstraat 166\, 3572 BP Utrecht\, Nederla
 nd)
SUMMARY:Vertellen voor jongeren
URL:https://www.vertelacademie.nl/kalender/evenement/819-vertellen-voor-jon
 geren
END:VEVENT
END:VCALENDAR
