BEGIN:VCALENDAR
VERSION:2.0
PRODID:-//https://www.vertelacademie.nl///NONSGML kigkonsult.se iCalcreator 2.10.15//
METHOD:PUBLISH
BEGIN:VEVENT
UID:20260420T044629CEST-2751RaC9n2@https://www.vertelacademie.nl/
DTSTAMP:20260420T024629Z
DESCRIPTION:Voor een beschrijving van de lesinhoud van Basiscursus - 4 zate
 rdagen\, klik hier. https://www.vertelacademie.nl/kalender/evenement/815-b
 asiscursus-4-zaterdagen
DTSTART;VALUE=DATE:20261128
LOCATION:Productiehuis de Verhalenboot - Zwolle (Burgemeester Drijbersingel
  25\, 8021 DA Zwolle\, Nederland)
SUMMARY:Basiscursus - 4 zaterdagen
URL:https://www.vertelacademie.nl/kalender/evenement/815-basiscursus-4-zate
 rdagen
END:VEVENT
END:VCALENDAR
