BEGIN:VCALENDAR
VERSION:2.0
PRODID:-//https://www.vertelacademie.nl///NONSGML kigkonsult.se iCalcreator 2.10.15//
METHOD:PUBLISH
BEGIN:VEVENT
UID:20260420T101603CEST-3173NlbB8V@https://www.vertelacademie.nl/
DTSTAMP:20260420T081603Z
DESCRIPTION:Voor een beschrijving van de lesinhoud van Theater en vertellen
  - 2 dagen\, klik hier. https://www.vertelacademie.nl/kalender/evenement/8
 12-theater-en-vertellen-2-dagen
DTSTART;VALUE=DATE:20270605
LOCATION:De Berenkuil - Utrecht (Biltstraat 166\, 3572 BP Utrecht\, Nederla
 nd)
SUMMARY:Theater en vertellen - 2 dagen
URL:https://www.vertelacademie.nl/kalender/evenement/812-theater-en-vertell
 en-2-dagen
END:VEVENT
END:VCALENDAR
