BEGIN:VCALENDAR
VERSION:2.0
PRODID:-//https://www.vertelacademie.nl///NONSGML kigkonsult.se iCalcreator 2.10.15//
METHOD:PUBLISH
BEGIN:VEVENT
UID:20260420T043456CEST-1571TOkXKb@https://www.vertelacademie.nl/
DTSTAMP:20260420T023456Z
DESCRIPTION:Voor een beschrijving van de lesinhoud van Improviserend vertel
 len - 2 dagen\, klik hier. https://www.vertelacademie.nl/kalender/evenemen
 t/808-improviserend-vertellen-2-dagen
DTSTART;VALUE=DATE:20270123
LOCATION:De Berenkuil - Utrecht (Biltstraat 166\, 3572 BP Utrecht\, Nederla
 nd)
SUMMARY:Improviserend vertellen - 2 dagen
URL:https://www.vertelacademie.nl/kalender/evenement/808-improviserend-vert
 ellen-2-dagen
END:VEVENT
END:VCALENDAR
