BEGIN:VCALENDAR
VERSION:2.0
PRODID:-//https://www.vertelacademie.nl///NONSGML kigkonsult.se iCalcreator 2.10.15//
METHOD:PUBLISH
BEGIN:VEVENT
UID:20260420T085904CEST-8496H9Of7G@https://www.vertelacademie.nl/
DTSTAMP:20260420T065904Z
DESCRIPTION: https://www.vertelacademie.nl/kalender/evenement/806-basiscurs
 us-4-zaterdagen-dag-3
DTSTART;VALUE=DATE:20270410
LOCATION:De Berenkuil - Utrecht (Biltstraat 166\, 3572 BP Utrecht\, Nederla
 nd)
SUMMARY:Basiscursus - 4 zaterdagen (Dag 3)
URL:https://www.vertelacademie.nl/kalender/evenement/806-basiscursus-4-zate
 rdagen-dag-3
END:VEVENT
END:VCALENDAR
