BEGIN:VCALENDAR
VERSION:2.0
PRODID:-//https://www.vertelacademie.nl///NONSGML kigkonsult.se iCalcreator 2.10.15//
METHOD:PUBLISH
BEGIN:VEVENT
UID:20260420T074513CEST-64463diu9P@https://www.vertelacademie.nl/
DTSTAMP:20260420T054513Z
DESCRIPTION: https://www.vertelacademie.nl/kalender/evenement/805-basiscurs
 us-4-zaterdagen-dag-2
DTSTART;VALUE=DATE:20270403
LOCATION:De Berenkuil - Utrecht (Biltstraat 166\, 3572 BP Utrecht\, Nederla
 nd)
SUMMARY:Basiscursus - 4 zaterdagen (Dag 2)
URL:https://www.vertelacademie.nl/kalender/evenement/805-basiscursus-4-zate
 rdagen-dag-2
END:VEVENT
END:VCALENDAR
