BEGIN:VCALENDAR
VERSION:2.0
PRODID:-//https://www.vertelacademie.nl///NONSGML kigkonsult.se iCalcreator 2.10.15//
METHOD:PUBLISH
BEGIN:VEVENT
UID:20260420T074317CEST-1843Sx5Zue@https://www.vertelacademie.nl/
DTSTAMP:20260420T054317Z
DESCRIPTION:Voor een beschrijving van de lesinhoud van Basiscursus - 4 zate
 rdagen\, klik hier. https://www.vertelacademie.nl/kalender/evenement/804-b
 asiscursus-4-zaterdagen
DTSTART;VALUE=DATE:20270320
LOCATION:De Berenkuil - Utrecht (Biltstraat 166\, 3572 BP Utrecht\, Nederla
 nd)
SUMMARY:Basiscursus - 4 zaterdagen
URL:https://www.vertelacademie.nl/kalender/evenement/804-basiscursus-4-zate
 rdagen
END:VEVENT
END:VCALENDAR
