BEGIN:VCALENDAR
VERSION:2.0
PRODID:-//https://www.vertelacademie.nl///NONSGML kigkonsult.se iCalcreator 2.10.15//
METHOD:PUBLISH
BEGIN:VEVENT
UID:20260420T085904CEST-35550t3ubB@https://www.vertelacademie.nl/
DTSTAMP:20260420T065904Z
DESCRIPTION: https://www.vertelacademie.nl/kalender/evenement/799-verteltec
 hniek-dialoog-ruimte-timing-4-dagen-dag-4
DTSTART;VALUE=DATE:20270410
LOCATION:De Berenkuil - Utrecht (Biltstraat 166\, 3572 BP Utrecht\, Nederla
 nd)
SUMMARY:Verteltechniek: dialoog\, ruimte\, timing - 4 dagen (Dag 4)
URL:https://www.vertelacademie.nl/kalender/evenement/799-verteltechniek-dia
 loog-ruimte-timing-4-dagen-dag-4
END:VEVENT
END:VCALENDAR
