BEGIN:VCALENDAR
VERSION:2.0
PRODID:-//https://www.vertelacademie.nl///NONSGML kigkonsult.se iCalcreator 2.10.15//
METHOD:PUBLISH
BEGIN:VEVENT
UID:20260420T032249CEST-9196fUM3gV@https://www.vertelacademie.nl/
DTSTAMP:20260420T012249Z
DESCRIPTION: https://www.vertelacademie.nl/kalender/evenement/816-basiscurs
 us-4-zaterdagen-dag-2
DTSTART;VALUE=DATE:20261212
LOCATION:Productiehuis de Verhalenboot - Zwolle (Burgemeester Drijbersingel
  25\, 8021 DA Zwolle\, Nederland)
SUMMARY:Basiscursus - 4 zaterdagen (Dag 2)
URL:https://www.vertelacademie.nl/kalender/evenement/816-basiscursus-4-zate
 rdagen-dag-2
END:VEVENT
END:VCALENDAR
