BEGIN:VCALENDAR
VERSION:2.0
PRODID:-//https://www.vertelacademie.nl///NONSGML kigkonsult.se iCalcreator 2.10.15//
METHOD:PUBLISH
BEGIN:VEVENT
UID:20260420T025818CEST-8298INbPKb@https://www.vertelacademie.nl/
DTSTAMP:20260420T005818Z
DESCRIPTION: https://www.vertelacademie.nl/kalender/evenement/792-basiscurs
 us-4-vrijdagen-dag-3
DTSTART;VALUE=DATE:20261106
LOCATION:De Berenkuil - Utrecht (Biltstraat 166\, 3572 BP Utrecht\, Nederla
 nd)
SUMMARY:Basiscursus - 4 vrijdagen (Dag 3)
URL:https://www.vertelacademie.nl/kalender/evenement/792-basiscursus-4-vrij
 dagen-dag-3
END:VEVENT
END:VCALENDAR
