BEGIN:VCALENDAR
VERSION:2.0
PRODID:-//https://www.vertelacademie.nl///NONSGML kigkonsult.se iCalcreator 2.10.15//
METHOD:PUBLISH
BEGIN:VEVENT
UID:20260419T190303CEST-4601PZwVjV@https://www.vertelacademie.nl/
DTSTAMP:20260419T170303Z
DESCRIPTION: https://www.vertelacademie.nl/kalender/evenement/788-verteltec
 hniek-dialoog-ruimte-timing-4-dagen-dag-3
DTSTART;VALUE=DATE:20261031
LOCATION:De Berenkuil - Utrecht (Biltstraat 166\, 3572 BP Utrecht\, Nederla
 nd)
SUMMARY:Verteltechniek: dialoog\, ruimte\, timing - 4 dagen (Dag 3)
URL:https://www.vertelacademie.nl/kalender/evenement/788-verteltechniek-dia
 loog-ruimte-timing-4-dagen-dag-3
END:VEVENT
END:VCALENDAR
