BEGIN:VCALENDAR
VERSION:2.0
PRODID:-//https://www.vertelacademie.nl///NONSGML kigkonsult.se iCalcreator 2.10.15//
METHOD:PUBLISH
BEGIN:VEVENT
UID:20260420T102610CEST-7749zf2NIn@https://www.vertelacademie.nl/
DTSTAMP:20260420T082610Z
DESCRIPTION: https://www.vertelacademie.nl/kalender/evenement/813-theater-e
 n-vertellen-2-dagen-dag-2
DTSTART;VALUE=DATE:20270612
LOCATION:De Berenkuil - Utrecht (Biltstraat 166\, 3572 BP Utrecht\, Nederla
 nd)
SUMMARY:Theater en vertellen - 2 dagen (Dag 2)
URL:https://www.vertelacademie.nl/kalender/evenement/813-theater-en-vertell
 en-2-dagen-dag-2
END:VEVENT
END:VCALENDAR
