BEGIN:VCALENDAR
VERSION:2.0
PRODID:-//https://www.vertelacademie.nl///NONSGML kigkonsult.se iCalcreator 2.10.15//
METHOD:PUBLISH
BEGIN:VEVENT
UID:20260420T085723CEST-9718Urpvel@https://www.vertelacademie.nl/
DTSTAMP:20260420T065723Z
DESCRIPTION:Voor een beschrijving van de lesinhoud van Vertellers in bewegi
 ng\, klik hier. https://www.vertelacademie.nl/kalender/evenement/814-verte
 llers-in-beweging
DTSTART;VALUE=DATE:20270529
LOCATION:De Berenkuil - Utrecht (Biltstraat 166\, 3572 BP Utrecht\, Nederla
 nd)
SUMMARY:Vertellers in beweging
URL:https://www.vertelacademie.nl/kalender/evenement/814-vertellers-in-bewe
 ging
END:VEVENT
END:VCALENDAR
