BEGIN:VCALENDAR
VERSION:2.0
PRODID:-//https://www.vertelacademie.nl///NONSGML kigkonsult.se iCalcreator 2.10.15//
METHOD:PUBLISH
BEGIN:VEVENT
UID:20260420T085744CEST-4891PpHUik@https://www.vertelacademie.nl/
DTSTAMP:20260420T065744Z
DESCRIPTION: https://www.vertelacademie.nl/kalender/evenement/803-basiscurs
 us-4-vrijdagen-dag-4
DTSTART;VALUE=DATE:20270423
LOCATION:De Berenkuil - Utrecht (Biltstraat 166\, 3572 BP Utrecht\, Nederla
 nd)
SUMMARY:Basiscursus - 4 vrijdagen (Dag 4)
URL:https://www.vertelacademie.nl/kalender/evenement/803-basiscursus-4-vrij
 dagen-dag-4
END:VEVENT
END:VCALENDAR
