BEGIN:VCALENDAR
VERSION:2.0
PRODID:-//https://www.vertelacademie.nl///NONSGML kigkonsult.se iCalcreator 2.10.15//
METHOD:PUBLISH
BEGIN:VEVENT
UID:20260420T073415CEST-4700gSSmZt@https://www.vertelacademie.nl/
DTSTAMP:20260420T053415Z
DESCRIPTION: https://www.vertelacademie.nl/kalender/evenement/807-basiscurs
 us-4-zaterdagen-dag-4
DTSTART;VALUE=DATE:20270417
LOCATION:De Berenkuil - Utrecht (Biltstraat 166\, 3572 BP Utrecht\, Nederla
 nd)
SUMMARY:Basiscursus - 4 zaterdagen (Dag 4)
URL:https://www.vertelacademie.nl/kalender/evenement/807-basiscursus-4-zate
 rdagen-dag-4
END:VEVENT
BEGIN:VEVENT
UID:20260420T073415CEST-4702cOKe87@https://www.vertelacademie.nl/
DTSTAMP:20260420T053415Z
DESCRIPTION:Voor een beschrijving van de lesinhoud van Sprankelend op de pl
 anken\, klik hier. https://www.vertelacademie.nl/kalender/evenement/811-sp
 rankelend-op-de-planken
DTSTART;VALUE=DATE:20270417
LOCATION:De Berenkuil - Utrecht (Biltstraat 166\, 3572 BP Utrecht\, Nederla
 nd)
SUMMARY:Sprankelend op de planken
URL:https://www.vertelacademie.nl/kalender/evenement/811-sprankelend-op-de-
 planken
END:VEVENT
END:VCALENDAR
