BEGIN:VCALENDAR
VERSION:2.0
PRODID:-//https://www.vertelacademie.nl///NONSGML kigkonsult.se iCalcreator 2.10.15//
METHOD:PUBLISH
BEGIN:VEVENT
UID:20260420T060917CEST-8723RBcl8U@https://www.vertelacademie.nl/
DTSTAMP:20260420T040917Z
DESCRIPTION: https://www.vertelacademie.nl/kalender/evenement/801-basiscurs
 us-4-vrijdagen-dag-2
DTSTART;VALUE=DATE:20270319
LOCATION:De Berenkuil - Utrecht (Biltstraat 166\, 3572 BP Utrecht\, Nederla
 nd)
SUMMARY:Basiscursus - 4 vrijdagen (Dag 2)
URL:https://www.vertelacademie.nl/kalender/evenement/801-basiscursus-4-vrij
 dagen-dag-2
END:VEVENT
END:VCALENDAR
