BEGIN:VCALENDAR
VERSION:2.0
PRODID:-//https://www.vertelacademie.nl///NONSGML kigkonsult.se iCalcreator 2.10.15//
METHOD:PUBLISH
BEGIN:VEVENT
UID:20260420T060916CEST-8773gRGevT@https://www.vertelacademie.nl/
DTSTAMP:20260420T040916Z
DESCRIPTION:Voor een beschrijving van de lesinhoud van Geef verhaal aan je 
 stem\, klik hier. https://www.vertelacademie.nl/kalender/evenement/795-gee
 f-verhaal-aan-je-stem
DTSTART;VALUE=DATE:20270313
LOCATION:De Berenkuil - Utrecht (Biltstraat 166\, 3572 BP Utrecht\, Nederla
 nd)
SUMMARY:Geef verhaal aan je stem
URL:https://www.vertelacademie.nl/kalender/evenement/795-geef-verhaal-aan-j
 e-stem
END:VEVENT
BEGIN:VEVENT
UID:20260420T060916CEST-8775ahtdox@https://www.vertelacademie.nl/
DTSTAMP:20260420T040916Z
DESCRIPTION: https://www.vertelacademie.nl/kalender/evenement/797-verteltec
 hniek-dialoog-ruimte-timing-4-dagen-dag-2
DTSTART;VALUE=DATE:20270313
LOCATION:De Berenkuil - Utrecht (Biltstraat 166\, 3572 BP Utrecht\, Nederla
 nd)
SUMMARY:Verteltechniek: dialoog\, ruimte\, timing - 4 dagen (Dag 2)
URL:https://www.vertelacademie.nl/kalender/evenement/797-verteltechniek-dia
 loog-ruimte-timing-4-dagen-dag-2
END:VEVENT
END:VCALENDAR
