BEGIN:VCALENDAR
VERSION:2.0
PRODID:-//https://www.vertelacademie.nl///NONSGML kigkonsult.se iCalcreator 2.10.15//
METHOD:PUBLISH
BEGIN:VEVENT
UID:20260420T060816CEST-5166IAu49V@https://www.vertelacademie.nl/
DTSTAMP:20260420T040816Z
DESCRIPTION:Voor een beschrijving van de lesinhoud van Verteltechniek: dial
 oog\, ruimte\, timing - 4 dagen\, klik hier. https://www.vertelacademie.nl
 /kalender/evenement/796-verteltechniek-dialoog-ruimte-timing-4-dagen
DTSTART;VALUE=DATE:20270306
LOCATION:De Berenkuil - Utrecht (Biltstraat 166\, 3572 BP Utrecht\, Nederla
 nd)
SUMMARY:Verteltechniek: dialoog\, ruimte\, timing - 4 dagen
URL:https://www.vertelacademie.nl/kalender/evenement/796-verteltechniek-dia
 loog-ruimte-timing-4-dagen
END:VEVENT
BEGIN:VEVENT
UID:20260420T060816CEST-5168iOhZV0@https://www.vertelacademie.nl/
DTSTAMP:20260420T040816Z
DESCRIPTION:Voor een beschrijving van de lesinhoud van Historische verhalen
  vertellen\, klik hier. https://www.vertelacademie.nl/kalender/evenement/8
 10-historische-verhalen-vertellen
DTSTART;VALUE=DATE:20270306
LOCATION:De Berenkuil - Utrecht (Biltstraat 166\, 3572 BP Utrecht\, Nederla
 nd)
SUMMARY:Historische verhalen vertellen
URL:https://www.vertelacademie.nl/kalender/evenement/810-historische-verhal
 en-vertellen
END:VEVENT
END:VCALENDAR
