BEGIN:VCALENDAR
VERSION:2.0
PRODID:-//https://www.vertelacademie.nl///NONSGML kigkonsult.se iCalcreator 2.10.15//
METHOD:PUBLISH
BEGIN:VEVENT
UID:20260420T025710CEST-7584tbv1vt@https://www.vertelacademie.nl/
DTSTAMP:20260420T005710Z
DESCRIPTION: https://www.vertelacademie.nl/kalender/evenement/809-improvise
 rend-vertellen-2-dagen-dag-2
DTSTART;VALUE=DATE:20270130
LOCATION:De Berenkuil - Utrecht (Biltstraat 166\, 3572 BP Utrecht\, Nederla
 nd)
SUMMARY:Improviserend vertellen - 2 dagen (Dag 2)
URL:https://www.vertelacademie.nl/kalender/evenement/809-improviserend-vert
 ellen-2-dagen-dag-2
END:VEVENT
END:VCALENDAR
