BEGIN:VCALENDAR
VERSION:2.0
PRODID:-//https://www.vertelacademie.nl///NONSGML kigkonsult.se iCalcreator 2.10.15//
METHOD:PUBLISH
BEGIN:VEVENT
UID:20260420T025710CEST-3964TvnUV0@https://www.vertelacademie.nl/
DTSTAMP:20260420T005710Z
DESCRIPTION: https://www.vertelacademie.nl/kalender/evenement/818-basiscurs
 us-4-zaterdagen-dag-4
DTSTART;VALUE=DATE:20270116
LOCATION:Productiehuis de Verhalenboot - Zwolle (Burgemeester Drijbersingel
  25\, 8021 DA Zwolle\, Nederland)
SUMMARY:Basiscursus - 4 zaterdagen (Dag 4)
URL:https://www.vertelacademie.nl/kalender/evenement/818-basiscursus-4-zate
 rdagen-dag-4
END:VEVENT
END:VCALENDAR
