BEGIN:VCALENDAR
VERSION:2.0
PRODID:-//https://www.vertelacademie.nl///NONSGML kigkonsult.se iCalcreator 2.10.15//
METHOD:PUBLISH
BEGIN:VEVENT
UID:20260420T025822CEST-5248aSwRMW@https://www.vertelacademie.nl/
DTSTAMP:20260420T005822Z
DESCRIPTION: https://www.vertelacademie.nl/kalender/evenement/817-basiscurs
 us-4-zaterdagen-dag-3
DTSTART;VALUE=DATE:20270109
LOCATION:Productiehuis de Verhalenboot - Zwolle (Burgemeester Drijbersingel
  25\, 8021 DA Zwolle\, Nederland)
SUMMARY:Basiscursus - 4 zaterdagen (Dag 3)
URL:https://www.vertelacademie.nl/kalender/evenement/817-basiscursus-4-zate
 rdagen-dag-3
END:VEVENT
END:VCALENDAR
