BEGIN:VCALENDAR
VERSION:2.0
PRODID:-//https://www.vertelacademie.nl///NONSGML kigkonsult.se iCalcreator 2.10.15//
METHOD:PUBLISH
BEGIN:VEVENT
UID:20260424T151657CEST-66119ur0IO@https://www.vertelacademie.nl/
DTSTAMP:20260424T131657Z
DESCRIPTION:Voor een beschrijving van de lesinhoud van Personal Storytellin
 g\, klik hier. https://www.vertelacademie.nl/cursusagenda/evenement/822-pe
 rsonal-storytelling
DTSTART;VALUE=DATE:20260926
LOCATION:De Berenkuil - Utrecht (Biltstraat 166\, 3572 BP Utrecht\, Nederla
 nd)
SUMMARY:Personal Storytelling
URL:https://www.vertelacademie.nl/cursusagenda/evenement/822-personal-story
 telling
END:VEVENT
END:VCALENDAR
