BEGIN:VCALENDAR
VERSION:2.0
PRODID:-//https://www.vertelacademie.nl///NONSGML kigkonsult.se iCalcreator 2.10.15//
METHOD:PUBLISH
BEGIN:VEVENT
UID:20260421T135954CEST-8994nzTZMN@https://www.vertelacademie.nl/
DTSTAMP:20260421T115954Z
DESCRIPTION:&nbsp\;\nVoor een beschrijving van de lesinhoud van Vertellers 
 in beweging\, klik hier. https://www.vertelacademie.nl/cursusagenda/evenem
 ent/769-vertellers-in-beweging
DTSTART;VALUE=DATE:20260627
LOCATION:De Berenkuil - Utrecht (Biltstraat 166\, 3572 BP Utrecht\, Nederla
 nd)
SUMMARY:Vertellers in beweging
URL:https://www.vertelacademie.nl/cursusagenda/evenement/769-vertellers-in-
 beweging
END:VEVENT
END:VCALENDAR
