BEGIN:VCALENDAR
VERSION:2.0
PRODID:-//https://www.vertelacademie.nl///NONSGML kigkonsult.se iCalcreator 2.10.15//
METHOD:PUBLISH
BEGIN:VEVENT
UID:20260421T135800CEST-6762pZ2vZM@https://www.vertelacademie.nl/
DTSTAMP:20260421T115800Z
DESCRIPTION:Voor een beschrijving van de lesinhoud van Authentiek vertellen
 \, klik hier. https://www.vertelacademie.nl/cursusagenda/evenement/765-aut
 hentiek-vertellen
DTSTART;VALUE=DATE:20260606
LOCATION:ZIMIHC Witte Vrouwen - Utrecht (Bouwstraat 55\, 3572 SP Utrecht\, 
 Nederland)
SUMMARY:Authentiek vertellen
URL:https://www.vertelacademie.nl/cursusagenda/evenement/765-authentiek-ver
 tellen
END:VEVENT
END:VCALENDAR
