BEGIN:VCALENDAR
VERSION:2.0
PRODID:-//https://www.vertelacademie.nl///NONSGML kigkonsult.se iCalcreator 2.10.15//
METHOD:PUBLISH
BEGIN:VEVENT
UID:20260424T134844CEST-1813Vt8aUv@https://www.vertelacademie.nl/
DTSTAMP:20260424T114844Z
DESCRIPTION: https://www.vertelacademie.nl/cursusagenda/evenement/539-de-ve
 rtelacademie-presenteert
DTSTART;VALUE=DATE:20220527
LOCATION:Locatie: zie beschrijving ()
SUMMARY:De Vertelacademie presenteert
URL:https://www.vertelacademie.nl/cursusagenda/evenement/539-de-vertelacade
 mie-presenteert
END:VEVENT
END:VCALENDAR
