BEGIN:VCALENDAR
VERSION:2.0
PRODID:-//https://www.vertelacademie.nl///NONSGML kigkonsult.se iCalcreator 2.10.15//
METHOD:PUBLISH
BEGIN:VEVENT
UID:20260424T130847CEST-7305ENbZUo@https://www.vertelacademie.nl/
DTSTAMP:20260424T110847Z
DESCRIPTION:Je kunt je voor deze cursus alleen aanmelden bij de bibliotheek
 Voor een beschrijving van de lesinhoud van Verkorte basiscursus - avonden\
 , klik hier. https://www.vertelacademie.nl/cursusagenda/evenement/449-verk
 orte-basiscursus-avonden
DTSTART;VALUE=DATE:20210927
LOCATION:Bibliotheek Neude - Utrecht (Neude 11\, 3512 AE Utrecht\, Nederlan
 d)
SUMMARY:Verkorte basiscursus - avonden
URL:https://www.vertelacademie.nl/cursusagenda/evenement/449-verkorte-basis
 cursus-avonden
END:VEVENT
END:VCALENDAR
