BEGIN:VCALENDAR
VERSION:2.0
PRODID:-//https://www.vertelacademie.nl///NONSGML kigkonsult.se iCalcreator 2.10.15//
METHOD:PUBLISH
BEGIN:VEVENT
UID:20260424T161835CEST-97890mEdFj@https://www.vertelacademie.nl/
DTSTAMP:20260424T141835Z
DESCRIPTION:&nbsp\;\nVoor een beschrijving van de lesinhoud van Basiscursus
  - 4 losse dagen\, klik hier. https://www.vertelacademie.nl/cursusagenda/e
 venement/336-basiscursus-4-zaterdagen
DTSTART;VALUE=DATE:20210306
LOCATION:De Berenkuil - Utrecht (Biltstraat 166\, 3572 BP Utrecht\, Nederla
 nd)
SUMMARY:Basiscursus - 4  zaterdagen
URL:https://www.vertelacademie.nl/cursusagenda/evenement/336-basiscursus-4-
 zaterdagen
END:VEVENT
END:VCALENDAR
