BEGIN:VCALENDAR
VERSION:2.0
PRODID:-//https://www.vertelacademie.nl///NONSGML kigkonsult.se iCalcreator 2.10.15//
METHOD:PUBLISH
BEGIN:VEVENT
UID:20260423T044152CEST-6251ZEt0tX@https://www.vertelacademie.nl/
DTSTAMP:20260423T024152Z
DESCRIPTION:Voor een beschrijving van de lesinhoud van Vertellen met/voor a
 nderstaligen\, klik hier. https://www.vertelacademie.nl/cursusagenda/evene
 ment/329-vertellen-met-voor-anderstaligen
DTSTART;VALUE=DATE:20210912
LOCATION:De Berenkuil - Utrecht (Biltstraat 166\, 3572 BP Utrecht\, Nederla
 nd)
SUMMARY:Vertellen met/voor anderstaligen
URL:https://www.vertelacademie.nl/cursusagenda/evenement/329-vertellen-met-
 voor-anderstaligen
END:VEVENT
END:VCALENDAR
