BEGIN:VCALENDAR
VERSION:2.0
PRODID:-//https://www.vertelacademie.nl///NONSGML kigkonsult.se iCalcreator 2.10.15//
METHOD:PUBLISH
BEGIN:VEVENT
UID:20260420T063010CEST-9401gTwBVs@https://www.vertelacademie.nl/
DTSTAMP:20260420T043010Z
DESCRIPTION:LET OP: de eerste bijeenkomst op 14 november is een online inst
 ructie van 10.00-12.00. De workshopdag op 28 november is in Utrecht.Voor e
 en beschrijving van de lesinhoud van De pop en de verteller\, klik hier. h
 ttps://www.vertelacademie.nl/component/rseventspro/evenement/820-de-pop-en
 -de-verteller?Itemid=101
DTSTART;VALUE=DATE:20261114
LOCATION:De Berenkuil - Utrecht (Biltstraat 166\, 3572 BP Utrecht\, Nederla
 nd)
SUMMARY:De pop en de verteller
URL:https://www.vertelacademie.nl/component/rseventspro/evenement/820-de-po
 p-en-de-verteller?Itemid=101
END:VEVENT
END:VCALENDAR
